BEGIN:VCALENDAR
VERSION:2.0
PRODID:-//Personal-Pool Plochingen - ECPv6.15.20//NONSGML v1.0//EN
CALSCALE:GREGORIAN
METHOD:PUBLISH
X-ORIGINAL-URL:https://3pkjf.de
X-WR-CALDESC:Veranstaltungen für Personal-Pool Plochingen
REFRESH-INTERVAL;VALUE=DURATION:PT1H
X-Robots-Tag:noindex
X-PUBLISHED-TTL:PT1H
BEGIN:VTIMEZONE
TZID:Europe/Berlin
BEGIN:DAYLIGHT
TZOFFSETFROM:+0100
TZOFFSETTO:+0200
TZNAME:CEST
DTSTART:20210328T010000
END:DAYLIGHT
BEGIN:STANDARD
TZOFFSETFROM:+0200
TZOFFSETTO:+0100
TZNAME:CET
DTSTART:20211031T010000
END:STANDARD
BEGIN:DAYLIGHT
TZOFFSETFROM:+0100
TZOFFSETTO:+0200
TZNAME:CEST
DTSTART:20220327T010000
END:DAYLIGHT
BEGIN:STANDARD
TZOFFSETFROM:+0200
TZOFFSETTO:+0100
TZNAME:CET
DTSTART:20221030T010000
END:STANDARD
BEGIN:DAYLIGHT
TZOFFSETFROM:+0100
TZOFFSETTO:+0200
TZNAME:CEST
DTSTART:20230326T010000
END:DAYLIGHT
BEGIN:STANDARD
TZOFFSETFROM:+0200
TZOFFSETTO:+0100
TZNAME:CET
DTSTART:20231029T010000
END:STANDARD
BEGIN:DAYLIGHT
TZOFFSETFROM:+0100
TZOFFSETTO:+0200
TZNAME:CEST
DTSTART:20240331T010000
END:DAYLIGHT
BEGIN:STANDARD
TZOFFSETFROM:+0200
TZOFFSETTO:+0100
TZNAME:CET
DTSTART:20241027T010000
END:STANDARD
END:VTIMEZONE
BEGIN:VEVENT
DTSTART;TZID=Europe/Berlin:20230815T100000
DTEND;TZID=Europe/Berlin:20230817T150000
DTSTAMP:20260424T214150
CREATED:20230213T115640Z
LAST-MODIFIED:20230213T115640Z
UID:10000042-1692093600-1692284400@3pkjf.de
SUMMARY:Sommerferien auf der Jugendfarm (EHS)
DESCRIPTION:In der 2. und 3. Ferienwoche gibt es ein Angebot der EHS für alle Kinder von 6-14 Jahren auf der MeKi-Jugendfarm. \nAuf der Meki können sich die Kinder handwerklich betätigen\, kreativ ausleben oder auch einfach nur „chillen“. Egal bei welchem Wetter ist man draußen in der Natur. Das Team der Erziehungshilfestelle Unteres Neckartal macht jeden Tag ein Bastelangebot und rahmt den Tag mit Gruppenspielen. \nVom 8.8. bis 10.8. (Dienstag\, Mittwoch und Donnerstag) ebenso vom 15.8. bis 17.8. geht das Programm von 10.00 Uhr bis 15.00 Uhr. \nEs können auch einzelne Tage gebucht werden. Das Programm ist nicht kostenpflichtig. Die Kinder müssen ihre eigene Verpflegung mitbringen\, wobei Trinkwasser vor Ort zur Verfügung steht und es mittags meist einen Obstsnack gibt. \nDie Anmeldung zu dem Angebot ist vom 26. Juni  bis spätestens 26. Juli möglich. Bitte per Mail an: ehs-pl-hindenburg@stiftung-tragwerk.de \nSie bekommen dann Rückmeldung\, ob an den angemeldeten Tagen noch Plätze frei sind und einen Anmeldebogen zur Erfassung der erforderlichen Daten.
URL:https://3pkjf.de/event/sommerferien-auf-der-jugendfarm-ehs-2/
LOCATION:Die Farm (Meki)\, Carl-Orff-Straße 10\, Plochingen\, Baden-Württemberg\, 73207\, Deutschland
CATEGORIES:Die EHS im FEPP,FEPP
ATTACH;FMTTYPE=image/png:https://3pkjf.de/wp-content/uploads/2021/07/Tragwerk.png
ORGANIZER;CN="Erziehungshilfestelle der Stiftung Tragwerk":MAILTO:ehs-pl-hindenburg @ stiftung-tragwerk.de
END:VEVENT
BEGIN:VEVENT
DTSTART;TZID=Europe/Berlin:20230808T100000
DTEND;TZID=Europe/Berlin:20230810T150000
DTSTAMP:20260424T214150
CREATED:20230213T111403Z
LAST-MODIFIED:20230213T115608Z
UID:10000021-1691488800-1691679600@3pkjf.de
SUMMARY:Sommerferien auf der Jugendfarm (EHS)
DESCRIPTION:In der 2. und 3. Ferienwoche gibt es ein Angebot der EHS für alle Kinder von 6-14 Jahren auf der MeKi-Jugendfarm. \nAuf der Meki können sich die Kinder handwerklich betätigen\, kreativ ausleben oder auch einfach nur „chillen“. Egal bei welchem Wetter ist man draußen in der Natur. Das Team der Erziehungshilfestelle Unteres Neckartal macht jeden Tag ein Bastelangebot und rahmt den Tag mit Gruppenspielen. \nVom 8.8. bis 10.8. (Dienstag\, Mittwoch und Donnerstag) ebenso vom 15.8. bis 17.8. geht das Programm von 10.00 Uhr bis 15.00 Uhr. \nEs können auch einzelne Tage gebucht werden. Das Programm ist nicht kostenpflichtig. Die Kinder müssen ihre eigene Verpflegung mitbringen\, wobei Trinkwasser vor Ort zur Verfügung steht und es mittags meist einen Obstsnack gibt. \nDie Anmeldung zu dem Angebot ist vom 26. Juni  bis spätestens 26. Juli möglich. Bitte per Mail an: ehs-pl-hindenburg@stiftung-tragwerk.de \nSie bekommen dann Rückmeldung\, ob an den angemeldeten Tagen noch Plätze frei sind und einen Anmeldebogen zur Erfassung der erforderlichen Daten.
URL:https://3pkjf.de/event/sommerferien-auf-der-jugendfarm-ehs/2023-08-08/
LOCATION:Die Farm (Meki)\, Carl-Orff-Straße 10\, Plochingen\, Baden-Württemberg\, 73207\, Deutschland
CATEGORIES:Die EHS im FEPP,FEPP
ATTACH;FMTTYPE=image/png:https://3pkjf.de/wp-content/uploads/2021/07/Tragwerk.png
ORGANIZER;CN="Erziehungshilfestelle der Stiftung Tragwerk":MAILTO:ehs-pl-hindenburg @ stiftung-tragwerk.de
END:VEVENT
BEGIN:VEVENT
DTSTART;TZID=Europe/Berlin:20220816T100000
DTEND;TZID=Europe/Berlin:20220818T150000
DTSTAMP:20260424T214150
CREATED:20220715T094953Z
LAST-MODIFIED:20220715T095147Z
UID:10000007-1660644000-1660834800@3pkjf.de
SUMMARY:Sommerferienprogramm der Erziehungshilfestelle auf der Farm
DESCRIPTION:Das Team der Erziehungshilfestelle Unteres Neckartal der Stiftung Tragwerk macht auch in diesem Jahr wieder ein Ferienangebot auf der Jugendfarm (Meki). \nIn der zweiten und dritten Sommerferienwoche immer Dienstag\, Mittwoch und Donnerstag: 09./10./11. und 16./17./18 August jeweils von 10.00-15.00 Uhr für Kinder im Alter von 6-14 Jahren. \nEs sind jeweils einzelne Tage buchbar!\nDie Kinder erwartet täglich ein kreatives Angebot\, ausreichend Zeit zum freien Spielen auf der Farm\, aber auch gemeinsame Aktionen.  \nDas Programm ist für alle Kinder kostenlos.  \nBitte genügend zu Essen und Trinken mitbringen und dem Wetter angepasste Kleidung! \nAnmeldung bis spätestens 22. Juli 2022 per Mail an:\nehs-pl-hindenburg@stiftung-tragwerk.de \nSie bekommen dann eine Rückmeldung\, ob die angemeldeten Tage noch verfügbar sind sowie einen Anmeldebogen für alle weiteren Informationen\, die benötigt werden.
URL:https://3pkjf.de/event/sommerferienprogramm-der-erziehungshilfestelle-auf-der-farm/2022-08-16/
LOCATION:Die Farm (Meki)\, Carl-Orff-Straße 10\, Plochingen\, Baden-Württemberg\, 73207\, Deutschland
CATEGORIES:Die EHS im FEPP,FEPP
ATTACH;FMTTYPE=image/jpeg:https://3pkjf.de/wp-content/uploads/2022/07/STW-Log_farbig_klein.jpg
ORGANIZER;CN="Erziehungshilfestelle der Stiftung Tragwerk":MAILTO:ehs-pl-hindenburg @ stiftung-tragwerk.de
END:VEVENT
BEGIN:VEVENT
DTSTART;TZID=Europe/Berlin:20220809T100000
DTEND;TZID=Europe/Berlin:20220811T150000
DTSTAMP:20260424T214150
CREATED:20220715T094953Z
LAST-MODIFIED:20220715T095147Z
UID:10000006-1660039200-1660230000@3pkjf.de
SUMMARY:Sommerferienprogramm der Erziehungshilfestelle auf der Farm
DESCRIPTION:Das Team der Erziehungshilfestelle Unteres Neckartal der Stiftung Tragwerk macht auch in diesem Jahr wieder ein Ferienangebot auf der Jugendfarm (Meki). \nIn der zweiten und dritten Sommerferienwoche immer Dienstag\, Mittwoch und Donnerstag: 09./10./11. und 16./17./18 August jeweils von 10.00-15.00 Uhr für Kinder im Alter von 6-14 Jahren. \nEs sind jeweils einzelne Tage buchbar!\nDie Kinder erwartet täglich ein kreatives Angebot\, ausreichend Zeit zum freien Spielen auf der Farm\, aber auch gemeinsame Aktionen.  \nDas Programm ist für alle Kinder kostenlos.  \nBitte genügend zu Essen und Trinken mitbringen und dem Wetter angepasste Kleidung! \nAnmeldung bis spätestens 22. Juli 2022 per Mail an:\nehs-pl-hindenburg@stiftung-tragwerk.de \nSie bekommen dann eine Rückmeldung\, ob die angemeldeten Tage noch verfügbar sind sowie einen Anmeldebogen für alle weiteren Informationen\, die benötigt werden.
URL:https://3pkjf.de/event/sommerferienprogramm-der-erziehungshilfestelle-auf-der-farm/2022-08-09/
LOCATION:Die Farm (Meki)\, Carl-Orff-Straße 10\, Plochingen\, Baden-Württemberg\, 73207\, Deutschland
CATEGORIES:Die EHS im FEPP,FEPP
ATTACH;FMTTYPE=image/jpeg:https://3pkjf.de/wp-content/uploads/2022/07/STW-Log_farbig_klein.jpg
ORGANIZER;CN="Erziehungshilfestelle der Stiftung Tragwerk":MAILTO:ehs-pl-hindenburg @ stiftung-tragwerk.de
END:VEVENT
END:VCALENDAR